BEGIN:VCALENDAR
VERSION:2.0
PRODID:-//AfD Kreis Olpe - ECPv6.15.20//NONSGML v1.0//EN
CALSCALE:GREGORIAN
METHOD:PUBLISH
X-ORIGINAL-URL:https://afd-kreis-olpe.de
X-WR-CALDESC:Veranstaltungen für AfD Kreis Olpe
REFRESH-INTERVAL;VALUE=DURATION:PT1H
X-Robots-Tag:noindex
X-PUBLISHED-TTL:PT1H
BEGIN:VTIMEZONE
TZID:Europe/Berlin
BEGIN:DAYLIGHT
TZOFFSETFROM:+0100
TZOFFSETTO:+0200
TZNAME:CEST
DTSTART:20210328T010000
END:DAYLIGHT
BEGIN:STANDARD
TZOFFSETFROM:+0200
TZOFFSETTO:+0100
TZNAME:CET
DTSTART:20211031T010000
END:STANDARD
BEGIN:DAYLIGHT
TZOFFSETFROM:+0100
TZOFFSETTO:+0200
TZNAME:CEST
DTSTART:20220327T010000
END:DAYLIGHT
BEGIN:STANDARD
TZOFFSETFROM:+0200
TZOFFSETTO:+0100
TZNAME:CET
DTSTART:20221030T010000
END:STANDARD
BEGIN:DAYLIGHT
TZOFFSETFROM:+0100
TZOFFSETTO:+0200
TZNAME:CEST
DTSTART:20230326T010000
END:DAYLIGHT
BEGIN:STANDARD
TZOFFSETFROM:+0200
TZOFFSETTO:+0100
TZNAME:CET
DTSTART:20231029T010000
END:STANDARD
BEGIN:DAYLIGHT
TZOFFSETFROM:+0100
TZOFFSETTO:+0200
TZNAME:CEST
DTSTART:20240331T010000
END:DAYLIGHT
BEGIN:STANDARD
TZOFFSETFROM:+0200
TZOFFSETTO:+0100
TZNAME:CET
DTSTART:20241027T010000
END:STANDARD
END:VTIMEZONE
BEGIN:VEVENT
DTSTART;TZID=Europe/Berlin:20230211T113000
DTEND;TZID=Europe/Berlin:20230211T140000
DTSTAMP:20260425T234957
CREATED:20230209T184733Z
LAST-MODIFIED:20230209T184953Z
UID:13520-1676115000-1676124000@afd-kreis-olpe.de
SUMMARY:Herzliche Einladung zur Kundgebung am Samstag in Lüdenscheid!
DESCRIPTION:Am Samstag\, den 11.02.2023\, findet in Lüdenscheid eine Kundgebung zum Thema „Verkehrs-Alptraum Lüdenscheid – Staatsversagen als neue Normalität“ statt. Zu Gast sind Dr. Dirk Spaniel (Verkehrspolitischer Sprecher der AfD im Bundestag) und Klaus Esser (Verkehrspolitischer Sprecher der AfD im Landtag)\, die dort einen Einblick in die Abläufe und eine Übersicht zur Lage rund um Lüdenscheid geben möchten. Beginn der Veranstaltung ist 11 Uhr 30 und der Veranstaltungsort ist der Sternplatz in Lüdenscheid. Alle interessierten Bürger sind herzlich eingeladen. Wir würden uns freuen\, euch dort begrüßen zu dürfen. \n \n 
URL:https://afd-kreis-olpe.de/veranstaltung/herzliche-einladung-zu-dieser-veranstaltung-am-samstag-in-luedenscheid/
LOCATION:Lüdenscheid\, Sternplatz
CATEGORIES:Kundgebungen
END:VEVENT
BEGIN:VEVENT
DTSTART;TZID=Europe/Berlin:20220511T190000
DTEND;TZID=Europe/Berlin:20220511T190000
DTSTAMP:20260425T234957
CREATED:20220509T162628Z
LAST-MODIFIED:20220511T145130Z
UID:13422-1652295600-1652295600@afd-kreis-olpe.de
SUMMARY:LIFE-CHAT MIT REGINE STEPHAN
DESCRIPTION:heute möchten wir Sie noch auf ein besonderes Ereignis hinweisen: Unsere Landtagskandidatin Regine Stephan wird für interessierte Mitbürger am kommenden Mittwoch\, 11. Mai\, ab 19.00 Uhr in einem Livechat für Fragen und Anliegen bereit sein. Sie erreichen unseren AfD-Livechat unter dem Link:\n\nhttps://meet.edv-schiller.de/afdlivechat\n\n\n\n\n\n\n\n\nEmpfohlene Browser:\nhttps://vivaldi.com\nhttps://www.google.de/chrome/\nhttps://www.microsoft.com/de-de/edge\n\n\nFür die Nutzung per Smartphone empfiehlt sich die passende App:\nNicht Empfohlen:\nApple Geräte: https://apps.apple.com/us/app/jitsi-meet/id1165103905\nEmpfehlung:\nSichere Android App\, SideLoad: https://f-droid.org/F-Droid.apk\n\n\n\n\n\n\n\nBis bald!
URL:https://afd-kreis-olpe.de/veranstaltung/life-chat-mit-regine-stephan/
END:VEVENT
END:VCALENDAR